BEGIN:VCALENDAR
VERSION:2.0
PRODID:-//Reisemobilstellplatz - ECPv6.15.13//NONSGML v1.0//EN
CALSCALE:GREGORIAN
METHOD:PUBLISH
X-WR-CALNAME:Reisemobilstellplatz
X-ORIGINAL-URL:https://stellplatz-bremen.de
X-WR-CALDESC:Veranstaltungen für Reisemobilstellplatz
REFRESH-INTERVAL;VALUE=DURATION:PT1H
X-Robots-Tag:noindex
X-PUBLISHED-TTL:PT1H
BEGIN:VTIMEZONE
TZID:Europe/Berlin
BEGIN:DAYLIGHT
TZOFFSETFROM:+0100
TZOFFSETTO:+0200
TZNAME:CEST
DTSTART:20240331T010000
END:DAYLIGHT
BEGIN:STANDARD
TZOFFSETFROM:+0200
TZOFFSETTO:+0100
TZNAME:CET
DTSTART:20241027T010000
END:STANDARD
BEGIN:DAYLIGHT
TZOFFSETFROM:+0100
TZOFFSETTO:+0200
TZNAME:CEST
DTSTART:20250330T010000
END:DAYLIGHT
BEGIN:STANDARD
TZOFFSETFROM:+0200
TZOFFSETTO:+0100
TZNAME:CET
DTSTART:20251026T010000
END:STANDARD
BEGIN:DAYLIGHT
TZOFFSETFROM:+0100
TZOFFSETTO:+0200
TZNAME:CEST
DTSTART:20260329T010000
END:DAYLIGHT
BEGIN:STANDARD
TZOFFSETFROM:+0200
TZOFFSETTO:+0100
TZNAME:CET
DTSTART:20261025T010000
END:STANDARD
END:VTIMEZONE
BEGIN:VEVENT
DTSTART;TZID=Europe/Berlin:20251124T120000
DTEND;TZID=Europe/Berlin:20251223T213000
DTSTAMP:20260426T044805
CREATED:20241105T131915Z
LAST-MODIFIED:20250107T174059Z
UID:2661-1763985600-1766525400@stellplatz-bremen.de
SUMMARY:Weihnachtsmarkt und Schlachte-Zauber
DESCRIPTION:In der Innenstadt laden auf dem Weihnachtsmarkt jährlich zahlreiche Stände und Buden zum Verweilen\, Klönen und Glühwein trinken ein. Zwischen Rathaus und Stadtmusikanten\, Roland und Schütting entsteht ein winterliches Dorf aus Buden und Karussells. Dort sorgt der Duft von Gebäck\, Bienenwachs und Glühwein für wohlige Besinnlichkeit. \nBeim Schlachte-Zauber an der Weserpromenade geht es zünftig zu: Der Geruch nach Holz\, Gebratenem und Gewürzen liegt in der Luft. An den mittelalterlichen Holzbuden kann Met oder Fruchtwein gekostet und den Handwerker*innen bei der Arbeit zugeschaut werden.
URL:https://stellplatz-bremen.de/event/weihnachtsmarkt-und-schlachte-zauber/
END:VEVENT
END:VCALENDAR