BEGIN:VCALENDAR
VERSION:2.0
PRODID:-//Reisemobilstellplatz - ECPv6.15.13//NONSGML v1.0//EN
CALSCALE:GREGORIAN
METHOD:PUBLISH
X-WR-CALNAME:Reisemobilstellplatz
X-ORIGINAL-URL:https://stellplatz-bremen.de
X-WR-CALDESC:Veranstaltungen für Reisemobilstellplatz
REFRESH-INTERVAL;VALUE=DURATION:PT1H
X-Robots-Tag:noindex
X-PUBLISHED-TTL:PT1H
BEGIN:VTIMEZONE
TZID:Europe/Berlin
BEGIN:DAYLIGHT
TZOFFSETFROM:+0100
TZOFFSETTO:+0200
TZNAME:CEST
DTSTART:20240331T010000
END:DAYLIGHT
BEGIN:STANDARD
TZOFFSETFROM:+0200
TZOFFSETTO:+0100
TZNAME:CET
DTSTART:20241027T010000
END:STANDARD
BEGIN:DAYLIGHT
TZOFFSETFROM:+0100
TZOFFSETTO:+0200
TZNAME:CEST
DTSTART:20250330T010000
END:DAYLIGHT
BEGIN:STANDARD
TZOFFSETFROM:+0200
TZOFFSETTO:+0100
TZNAME:CET
DTSTART:20251026T010000
END:STANDARD
BEGIN:DAYLIGHT
TZOFFSETFROM:+0100
TZOFFSETTO:+0200
TZNAME:CEST
DTSTART:20260329T010000
END:DAYLIGHT
BEGIN:STANDARD
TZOFFSETFROM:+0200
TZOFFSETTO:+0100
TZNAME:CET
DTSTART:20261025T010000
END:STANDARD
END:VTIMEZONE
BEGIN:VEVENT
DTSTART;TZID=Europe/Berlin:20250907T110000
DTEND;TZID=Europe/Berlin:20250907T180000
DTSTAMP:20260426T013619
CREATED:20171218T172856Z
LAST-MODIFIED:20250115T123123Z
UID:345-1757242800-1757268000@stellplatz-bremen.de
SUMMARY:Kajenmarkt
DESCRIPTION:Raus aus der Koje! Ran an die Kaje! Der Kajenmarkt lädt Samstags mit musikalischen und kulinarischen Höhepunkten. Mit abwechslungsreicher Live-Musik und vielen Ständen begeistert er alljährlich seine Besucherinnen und Besucher. Und die Frühaufsteher bummeln vorher über den Flohmarkt unten an der Weser
URL:https://stellplatz-bremen.de/event/kajenmarkt-20/
LOCATION:Schlachte Promenade
END:VEVENT
END:VCALENDAR