BEGIN:VCALENDAR
VERSION:2.0
PRODID:-//Reisemobilstellplatz - ECPv6.15.13//NONSGML v1.0//EN
CALSCALE:GREGORIAN
METHOD:PUBLISH
X-ORIGINAL-URL:https://stellplatz-bremen.de
X-WR-CALDESC:Veranstaltungen für Reisemobilstellplatz
REFRESH-INTERVAL;VALUE=DURATION:PT1H
X-Robots-Tag:noindex
X-PUBLISHED-TTL:PT1H
BEGIN:VTIMEZONE
TZID:Europe/Berlin
BEGIN:DAYLIGHT
TZOFFSETFROM:+0100
TZOFFSETTO:+0200
TZNAME:CEST
DTSTART:20240331T010000
END:DAYLIGHT
BEGIN:STANDARD
TZOFFSETFROM:+0200
TZOFFSETTO:+0100
TZNAME:CET
DTSTART:20241027T010000
END:STANDARD
BEGIN:DAYLIGHT
TZOFFSETFROM:+0100
TZOFFSETTO:+0200
TZNAME:CEST
DTSTART:20250330T010000
END:DAYLIGHT
BEGIN:STANDARD
TZOFFSETFROM:+0200
TZOFFSETTO:+0100
TZNAME:CET
DTSTART:20251026T010000
END:STANDARD
BEGIN:DAYLIGHT
TZOFFSETFROM:+0100
TZOFFSETTO:+0200
TZNAME:CEST
DTSTART:20260329T010000
END:DAYLIGHT
BEGIN:STANDARD
TZOFFSETFROM:+0200
TZOFFSETTO:+0100
TZNAME:CET
DTSTART:20261025T010000
END:STANDARD
END:VTIMEZONE
BEGIN:VEVENT
DTSTART;TZID=Europe/Berlin:20250426T110000
DTEND;TZID=Europe/Berlin:20250427T190000
DTSTAMP:20260425T134859
CREATED:20200128T114936Z
LAST-MODIFIED:20250115T113001Z
UID:866-1745665200-1745780400@stellplatz-bremen.de
SUMMARY:Kajenmarkt Eröffnungs Wochenende
DESCRIPTION:direkt am Weserufer und vom Stellplatz aus schnell zu erreichen. Ein Tipp: der Flohmarkt direkt neben dem Kajenmarkt startet ab 6:00. Am besten erst über den Flohmarkt bummeln und dann den Kajenmarkt genießen. \nBremer Kajenmarkt: Geh vor Anker\, komm an die Schlachte!
URL:https://stellplatz-bremen.de/event/kajenmarkt-eroeffnung/
LOCATION:Schlachte Promenade
END:VEVENT
END:VCALENDAR