BEGIN:VCALENDAR
VERSION:2.0
PRODID:-//Reisemobilstellplatz - ECPv6.15.13//NONSGML v1.0//EN
CALSCALE:GREGORIAN
METHOD:PUBLISH
X-ORIGINAL-URL:http://stellplatz-bremen.de
X-WR-CALDESC:Veranstaltungen für Reisemobilstellplatz
REFRESH-INTERVAL;VALUE=DURATION:PT1H
X-Robots-Tag:noindex
X-PUBLISHED-TTL:PT1H
BEGIN:VTIMEZONE
TZID:Europe/Berlin
BEGIN:DAYLIGHT
TZOFFSETFROM:+0100
TZOFFSETTO:+0200
TZNAME:CEST
DTSTART:20250330T010000
END:DAYLIGHT
BEGIN:STANDARD
TZOFFSETFROM:+0200
TZOFFSETTO:+0100
TZNAME:CET
DTSTART:20251026T010000
END:STANDARD
BEGIN:DAYLIGHT
TZOFFSETFROM:+0100
TZOFFSETTO:+0200
TZNAME:CEST
DTSTART:20260329T010000
END:DAYLIGHT
BEGIN:STANDARD
TZOFFSETFROM:+0200
TZOFFSETTO:+0100
TZNAME:CET
DTSTART:20261025T010000
END:STANDARD
BEGIN:DAYLIGHT
TZOFFSETFROM:+0100
TZOFFSETTO:+0200
TZNAME:CEST
DTSTART:20270328T010000
END:DAYLIGHT
BEGIN:STANDARD
TZOFFSETFROM:+0200
TZOFFSETTO:+0100
TZNAME:CET
DTSTART:20271031T010000
END:STANDARD
BEGIN:DAYLIGHT
TZOFFSETFROM:+0100
TZOFFSETTO:+0200
TZNAME:CEST
DTSTART:20280326T010000
END:DAYLIGHT
BEGIN:STANDARD
TZOFFSETFROM:+0200
TZOFFSETTO:+0100
TZNAME:CET
DTSTART:20281029T010000
END:STANDARD
END:VTIMEZONE
BEGIN:VEVENT
DTSTART;TZID=Europe/Berlin:20260530T150000
DTEND;TZID=Europe/Berlin:20260530T230000
DTSTAMP:20260419T142909
CREATED:20251219T165643Z
LAST-MODIFIED:20251219T165643Z
UID:2858-1780153200-1780182000@stellplatz-bremen.de
SUMMARY:Hazel Brugger
DESCRIPTION:Hazel Brugger geht 2026 und 2027 wieder auf Tour\nGood Evening Europe: Unter diesem Titel geht Hazel Brugger bald wieder auf Tour und präsentiert ein neues Programm bei zahlreichen Live-Terminen in Deutschland\, Österreich und der Schweiz.
URL:http://stellplatz-bremen.de/event/hazel-brugger-2/
LOCATION:Metropol Theater
END:VEVENT
BEGIN:VEVENT
DTSTART;VALUE=DATE:20260611
DTEND;VALUE=DATE:20260615
DTSTAMP:20260419T142909
CREATED:20200128T151129Z
LAST-MODIFIED:20251219T155831Z
UID:897-1781136000-1781481599@stellplatz-bremen.de
SUMMARY:La Strada Internationales Festival der Straßenkünste
DESCRIPTION:Das Straßenkunstfestival La Strada öffnet jedes Jahr im Sommer seine Manege für eine atemberaubende Show\, die jedermann kostenlos besuchen kann\n\n\n\nLa Strada Internationales Festival der Straßenkünste
URL:http://stellplatz-bremen.de/event/la-strada/
LOCATION:Bremen Innenstadt
END:VEVENT
BEGIN:VEVENT
DTSTART;VALUE=DATE:20260619
DTEND;VALUE=DATE:20260622
DTSTAMP:20260419T142909
CREATED:20220517T141917Z
LAST-MODIFIED:20251219T155733Z
UID:2384-1781827200-1782086399@stellplatz-bremen.de
SUMMARY:HOEG - Das große Innenstadtfest mit 6 Bühnen - essen und trinken.
DESCRIPTION:Ein MUSS für alle Binnen- und Buten Bremer und Bremerinnen\, die gerne unter freiem Himmel genießen. Auf dem HOEG CitySommerFest erwartet die Besucher und Besucherinnen 5 Bühnen mit einer Vielfalt von Live-Bands. In der Sögestraße\, dem Schnoor\, der Lloyd Passage\, sowie auf den großen Plätzen Domshof\, Marktplatz\, Hanseaten- und Ansgarikirchhof werden Show-Acts für jede Menge Abwechslung sorgen und Gastronomie und Einzelhandel locken mit attraktiven Aktionen. Natürlich wird es auch „Ruheoasen“ geben\, wohin man sich auf einen Schnack mit Freunden zurückziehen oder auch neue Menschen kennen lernen kann. „HOEG“ ist das neue CitySommerFest – nicht nur norddeutsch ein Grund zur „Freude“
URL:http://stellplatz-bremen.de/event/hoeg/
LOCATION:Bremen Innenstadt
END:VEVENT
BEGIN:VEVENT
DTSTART;TZID=Europe/Berlin:20260701T120000
DTEND;TZID=Europe/Berlin:20260705T233000
DTSTAMP:20260419T142909
CREATED:20171218T183631Z
LAST-MODIFIED:20251219T155610Z
UID:404-1782907200-1783294200@stellplatz-bremen.de
SUMMARY:Breminale                   Kunst - Kultur - Musik
DESCRIPTION:Die Breminale\, das Musikfestival ist ein Anziehungspunkt für alle Bremer und Exbremer. Kunstschaffende und Kunstliebhabende aus aller Welt kommen Jahr für Jahr an den Osterdeichwiesen für ein paar Tagen zusammen und genießen den kulturellen Austausch. Das Kulturfestival ist ein fester Bestandteil im Bremer Veranstaltungskalender. Eintritt frei mit vielen bekannten Bands und Radiosendern. \nEinmal mit der Fähre übersetzten und Sie sind direkt auf dem Veranstaltungsgelände.
URL:http://stellplatz-bremen.de/event/breminale-25-29-06-2018/
LOCATION:Weserufer
END:VEVENT
BEGIN:VEVENT
DTSTART;TZID=Europe/Berlin:20260709T170000
DTEND;TZID=Europe/Berlin:20260709T223000
DTSTAMP:20260419T142909
CREATED:20260105T111142Z
LAST-MODIFIED:20260105T111442Z
UID:2892-1783616400-1783636200@stellplatz-bremen.de
SUMMARY:Mark Forster
DESCRIPTION:Open Air auf der alten Galopprennbahn
URL:http://stellplatz-bremen.de/event/mark-forster-2/
LOCATION:Galopprennbahn
END:VEVENT
BEGIN:VEVENT
DTSTART;TZID=Europe/Berlin:20260711T170000
DTEND;TZID=Europe/Berlin:20260711T223000
DTSTAMP:20260419T142909
CREATED:20260105T111617Z
LAST-MODIFIED:20260105T111617Z
UID:2898-1783789200-1783809000@stellplatz-bremen.de
SUMMARY:Michael Patrick Kelly
DESCRIPTION:Live und Open Air
URL:http://stellplatz-bremen.de/event/michael-patrick-kelly/
LOCATION:Galopprennbahn
END:VEVENT
BEGIN:VEVENT
DTSTART;TZID=Europe/Berlin:20260808T140000
DTEND;TZID=Europe/Berlin:20260808T230000
DTSTAMP:20260419T142909
CREATED:20190122T124403Z
LAST-MODIFIED:20251219T161142Z
UID:648-1786197600-1786230000@stellplatz-bremen.de
SUMMARY:Bremen Ole 2026  Schlager- und Ballermannparty
DESCRIPTION:Bremen Ole 2026 Schlager-Fans können zehn Stunden lang zu Schlager- und Ballermann-Musik feiern. Open Air vor der Arena \n\n\n\nNur 3 km vom Stellplatz entfernt
URL:http://stellplatz-bremen.de/event/bremen-ole-2019-schlager-und-ballermannparty/
LOCATION:Messe Bremen und ÖVB Arena\, Findorffstr. 101\, Bremen\, Bremen\, 28215\, Deutschland
END:VEVENT
BEGIN:VEVENT
DTSTART;TZID=Europe/Berlin:20260814T180000
DTEND;TZID=Europe/Berlin:20260814T230000
DTSTAMP:20260419T142909
CREATED:20250107T174258Z
LAST-MODIFIED:20251219T155458Z
UID:2705-1786730400-1786748400@stellplatz-bremen.de
SUMMARY:Die Toten Hosen
DESCRIPTION:Die Toten Hosen gehen auf große Tour! Am Freitag\, 14. August 2026\, erlebt ihr die Düsseldorfer live und open air auf der Bürgerweide.
URL:http://stellplatz-bremen.de/event/paul-kalkbrenner/
LOCATION:Messe Bremen und ÖVB Arena\, Findorffstr. 101\, Bremen\, Bremen\, 28215\, Deutschland
END:VEVENT
BEGIN:VEVENT
DTSTART;TZID=Europe/Berlin:20260821T160000
DTEND;TZID=Europe/Berlin:20260821T230000
DTSTAMP:20260419T142909
CREATED:20251219T160806Z
LAST-MODIFIED:20251219T160923Z
UID:2806-1787328000-1787353200@stellplatz-bremen.de
SUMMARY:Nina Chuba   -    openair
DESCRIPTION:Nina ChubaSommershows 2026.
URL:http://stellplatz-bremen.de/event/broilers-live-und-openair/
LOCATION:Messe Bremen und ÖVB Arena\, Findorffstr. 101\, Bremen\, Bremen\, 28215\, Deutschland
END:VEVENT
BEGIN:VEVENT
DTSTART;TZID=Europe/Berlin:20260822T160000
DTEND;TZID=Europe/Berlin:20260822T230000
DTSTAMP:20260419T142909
CREATED:20251219T161248Z
LAST-MODIFIED:20251219T161248Z
UID:2812-1787414400-1787439600@stellplatz-bremen.de
SUMMARY:Broilers - live und openair
DESCRIPTION:Am 22. August 2026 kehren die Broilers zurück nach Bremen und spielen im Rahmen ihrer Tour auf der Bürgerweide.
URL:http://stellplatz-bremen.de/event/broilers-live-und-openair-2/
LOCATION:Messe Bremen und ÖVB Arena\, Findorffstr. 101\, Bremen\, Bremen\, 28215\, Deutschland
END:VEVENT
BEGIN:VEVENT
DTSTART;TZID=Europe/Berlin:20260825T180000
DTEND;TZID=Europe/Berlin:20260825T230000
DTSTAMP:20260419T142909
CREATED:20251219T163435Z
LAST-MODIFIED:20251219T163558Z
UID:2829-1787680800-1787698800@stellplatz-bremen.de
SUMMARY:Sascha Grammel
DESCRIPTION:Alle bitte mal kurz auf die Zehenspitzen stellen! Es gibt Neuigkeiten aus dem Hause Grammel: Am 25. August 2026 ist der Comedian mit seinem Programm live in der ÖVB-Arena.
URL:http://stellplatz-bremen.de/event/sascha-grammel/
LOCATION:Messe Bremen und ÖVB Arena\, Findorffstr. 101\, Bremen\, Bremen\, 28215\, Deutschland
END:VEVENT
BEGIN:VEVENT
DTSTART;TZID=Europe/Berlin:20260831T160000
DTEND;TZID=Europe/Berlin:20260901T230000
DTSTAMP:20260419T142909
CREATED:20250524T150121Z
LAST-MODIFIED:20251219T160239Z
UID:2773-1788192000-1788303600@stellplatz-bremen.de
SUMMARY:TurnUp BRMN
DESCRIPTION:Beim Turn Up BRMN Festival erwarten euch über viele Stunden Musik und Side-Events: Eine Bühne\, diverse Minigames\, Sport-Courts und die ein oder andere Überraschung sind dabei! Freut euch auf Musik von Luciano\, Pashanim\, Symba\, BOOZ und vielen mehr.
URL:http://stellplatz-bremen.de/event/turnup-brmn/
LOCATION:Messe Bremen und ÖVB Arena\, Findorffstr. 101\, Bremen\, Bremen\, 28215\, Deutschland
END:VEVENT
BEGIN:VEVENT
DTSTART;TZID=Europe/Berlin:20260912T180000
DTEND;TZID=Europe/Berlin:20261107T230000
DTSTAMP:20260419T142909
CREATED:20251219T163720Z
LAST-MODIFIED:20251219T163720Z
UID:2831-1789236000-1794092400@stellplatz-bremen.de
SUMMARY:Annenmaykantereit
DESCRIPTION:„Alles nix Konkretes“: So hieß 2016 das erste Album der Kölner Band AnnenMayKantereit. Es hätte keinen besseren Titel geben können. Denn es gab ja damals tatsächlich keinen Karriereplan\, das Motto war eher: erst mal machen\, dem Vibe folgen\, gucken\, was passiert.
URL:http://stellplatz-bremen.de/event/annenmaykantereit/
LOCATION:Messe Bremen und ÖVB Arena\, Findorffstr. 101\, Bremen\, Bremen\, 28215\, Deutschland
END:VEVENT
BEGIN:VEVENT
DTSTART;TZID=Europe/Berlin:20260913T080000
DTEND;TZID=Europe/Berlin:20260913T120000
DTSTAMP:20260419T142909
CREATED:20190122T125427Z
LAST-MODIFIED:20260104T113442Z
UID:654-1789286400-1789300800@stellplatz-bremen.de
SUMMARY:21. SWB - Marathon 20256
DESCRIPTION:Wie im vergangenen Jahren gehört auch in diesem Jahr das erste Oktoberwochenende in Bremen den Marathonläufern. Insgesamt werden wieder rund 8.000 Teilnehmer bei einer der stimmungsvollsten Laufveranstaltungen im Norden\, dem Bremen-Marathon erwartet. Und das beste die Läufer des Marathons passieren bei km 5 den Stellplatz. \nVERSCHOBEN auf den 13.09.2026
URL:http://stellplatz-bremen.de/event/15-swb-marathon/
LOCATION:Bremen Innenstadt
END:VEVENT
BEGIN:VEVENT
DTSTART;TZID=Europe/Berlin:20260919T180000
DTEND;TZID=Europe/Berlin:20260919T230000
DTSTAMP:20260419T142909
CREATED:20250107T174729Z
LAST-MODIFIED:20251219T155246Z
UID:2711-1789840800-1789858800@stellplatz-bremen.de
SUMMARY:Die Schlagernacht des Jahres
DESCRIPTION:Wir haben die Lizenz zum Schlagern!
URL:http://stellplatz-bremen.de/event/die-schlagernacht-des-jahres/
LOCATION:Messe Bremen und ÖVB Arena\, Findorffstr. 101\, Bremen\, Bremen\, 28215\, Deutschland
END:VEVENT
BEGIN:VEVENT
DTSTART;VALUE=DATE:20261002
DTEND;VALUE=DATE:20261005
DTSTAMP:20260419T142909
CREATED:20260104T113842Z
LAST-MODIFIED:20260104T113842Z
UID:2885-1790899200-1791158399@stellplatz-bremen.de
SUMMARY:Einheitsfest in Bremen. Deutschland zu Gast in der Hansestadt. Vom 2. bis 4. Oktober 2026. - Viele Stärken\, ein Land.   Tag der Deutschen Einheit 2026 in Bremen Ganz Deutschland zu Gast in der Freien Hansestadt Bremen
DESCRIPTION:Was Sie erwartet\nFreuen Sie sich auf ein vielfältiges Programm in der gesamten Bremer Innenstadt: \n\nBürgerfest zwischen Wall und Weser voller Musik\, Genuss\, Mitmachaktionen und Präsentationen aller 16 Länder\nTreffen Sie Vertreterinnen und Vertreter unserer Verfassungsorgane – Deutschland präsentiert sich in Bremen\nBremen-Meile: Von Fischbrötchen bis Raketentechnologie – hier zeigt sich unser Land in all seinen Facetten\nFür Familien bieten wir einen extra Kinderbereich mit viel Platz zum Spielen\, Toben und kreativ sein\nGenuss-Meile: Auf einem guten Fest darf gutes Essen nicht fehlen. Kommen Sie vorbei und genießen Sie gute Küche aus Deutschland und der Welt.
URL:http://stellplatz-bremen.de/event/einheitsfest-in-bremen-deutschland-zu-gast-in-der-hansestadt-vom-2-bis-4-oktober-2026-viele-staerken-ein-land-tag-der-deutschen-einheit-2026-in-bremen-ganz-deutschland-zu-gast-in-der-freien/
LOCATION:Innenstadt
END:VEVENT
BEGIN:VEVENT
DTSTART;VALUE=DATE:20261016
DTEND;VALUE=DATE:20261102
DTSTAMP:20260419T142909
CREATED:20250115T110456Z
LAST-MODIFIED:20251219T154946Z
UID:2732-1792108800-1793577599@stellplatz-bremen.de
SUMMARY:Der 991. Bremer Freimarkt
DESCRIPTION:Eines der größten deutschen Volksfeste freut sich auf Besucher aus der ganzen Welt. Alljährlich im Oktober bricht in Bremen die fünfte Jahreszeit an: Für 17 Tage heißt es auf der Bürgerweide und in der Innenstadt: Ischa Freimaak! Dann liegt der Duft von Zuckerwatte und gebrannten Mandeln in der Luft\, Fahrgeschäfte sorgen für Adrenalin während Kinderaugen beim Anblick von Luftballons und Lebkuchenherzen leuchten.
URL:http://stellplatz-bremen.de/event/der-990-bremer-freimarkt/
LOCATION:Messe Bremen und ÖVB Arena\, Findorffstr. 101\, Bremen\, Bremen\, 28215\, Deutschland
END:VEVENT
BEGIN:VEVENT
DTSTART;TZID=Europe/Berlin:20261016T180000
DTEND;TZID=Europe/Berlin:20261016T230000
DTSTAMP:20260419T142909
CREATED:20251219T165919Z
LAST-MODIFIED:20251219T165919Z
UID:2860-1792173600-1792191600@stellplatz-bremen.de
SUMMARY:Atze Schröder
DESCRIPTION:LOVEMACHINE\n\nDer Kanzler der Herzen ist zurück. Ein Programm über Nähe\, Ehrlichkeit – und die Rückkehr zum Menschlichen \nAtze Schröder\, die liebende Legende\, will seinen Fans diesmal etwas zurückzugeben: das Echte\, das Vertraute\, das schönste Gefühl der Welt. \nDenn wir tippen\, wischen\, liken – aber wissen kaum noch\, wie eine echte Berührung geht. Wir haben alle Tools\, um verbunden zu sein – aber niemand hebt mehr ab\, wenn’s klingelt. Wir sind alle dauer-online – aber innerlich auf Flugmodus. Wir leben zwischen Selbstoptimierung\nund digitalen Dauerbrennern\, in Beziehungen mit gemeinsamem WLAN-Passwort\, aber ohne stabile Verbindung. Die Welt dreht durch\, aber Hauptsache\, die Zahnbürste des Partners steht im richtigen Becher.
URL:http://stellplatz-bremen.de/event/atze-schroeder/
LOCATION:Metropol Theater
END:VEVENT
BEGIN:VEVENT
DTSTART;TZID=Europe/Berlin:20261024T180000
DTEND;TZID=Europe/Berlin:20261226T170000
DTSTAMP:20260419T142909
CREATED:20251219T171438Z
LAST-MODIFIED:20251219T171438Z
UID:2881-1792864800-1798304400@stellplatz-bremen.de
SUMMARY:Sportfreunde Stiller
DESCRIPTION:Es ist 2026….nun also feiern wir Sportfreunde 30jähriges Jubiläum. Das muss man sich mal aufm Drumfell zergehen lassen! Als Mensch bedeutet die 30\, Jugend ade\, Real Life ohje! Als Band bedeutet die 30\, Hurra\, wir leben noch! (Frei nach Milva) \nUnd dass diese Band nun schon so lange unser Leben begleitet\, ja\, in bedeutsamer und positivster Weise prägt und inspiriert\, wollen wir mit euch feiern! Deswegen wird alles\, was jetzt noch obendrauf kommt so dermaßen abzelebriert\, dass unser Herz vibriert und die Plunze wippt! \nWir wollen neues Zeug schreiben\, dann mit Best Of auf die Straße und auf die Kacke hauen! Rauscht auch ihr mit uns durch 30 wunderbaren Jahren?
URL:http://stellplatz-bremen.de/event/sportfreunde-stiller/
LOCATION:Pier 2
END:VEVENT
BEGIN:VEVENT
DTSTART;TZID=Europe/Berlin:20261030T190000
DTEND;TZID=Europe/Berlin:20261030T230000
DTSTAMP:20260419T142909
CREATED:20250107T175321Z
LAST-MODIFIED:20251219T154704Z
UID:2721-1793386800-1793401200@stellplatz-bremen.de
SUMMARY:Die Bremer Darts Gala
DESCRIPTION:Die Weltspitze der Dart-Szene zu Gast in Bremen!
URL:http://stellplatz-bremen.de/event/die-bremer-darts-gala/
LOCATION:Messe Bremen und ÖVB Arena\, Findorffstr. 101\, Bremen\, Bremen\, 28215\, Deutschland
END:VEVENT
BEGIN:VEVENT
DTSTART;VALUE=DATE:20261106
DTEND;VALUE=DATE:20261109
DTSTAMP:20260419T142909
CREATED:20200128T113724Z
LAST-MODIFIED:20251219T154604Z
UID:856-1793923200-1794182399@stellplatz-bremen.de
SUMMARY:Caravan Bremen - Reise Messe - Fisch und Feines - Bier Messe
DESCRIPTION:Der Messe dreier Pack – für jeden etwas dabei
URL:http://stellplatz-bremen.de/event/die-prinzen/
LOCATION:Messe Bremen und ÖVB Arena\, Findorffstr. 101\, Bremen\, Bremen\, 28215\, Deutschland
END:VEVENT
BEGIN:VEVENT
DTSTART;TZID=Europe/Berlin:20261112T170000
DTEND;TZID=Europe/Berlin:20270114T230000
DTSTAMP:20260419T142909
CREATED:20251219T163852Z
LAST-MODIFIED:20251219T163852Z
UID:2833-1794502800-1799967600@stellplatz-bremen.de
SUMMARY:Let`s Dance
DESCRIPTION:Nach dem überwältigenden Erfolg der letzten Jahre geht „Let’s Dance – Die Live-Tour“ im Jahr 2026 in die siebte Runde und bringt das gefeierte RTL-Format erneut auf die großen Bühnen Deutschlands und der Schweiz. Für rund zwei Stunden entführt „Let’s Dance“ das Publikum aus dem Alltag in eine gänzlich andere Welt
URL:http://stellplatz-bremen.de/event/lets-dance/
LOCATION:Messe Bremen und ÖVB Arena\, Findorffstr. 101\, Bremen\, Bremen\, 28215\, Deutschland
END:VEVENT
BEGIN:VEVENT
DTSTART;TZID=Europe/Berlin:20261114T183000
DTEND;TZID=Europe/Berlin:20270116T230000
DTSTAMP:20260419T142909
CREATED:20251219T163958Z
LAST-MODIFIED:20251219T163958Z
UID:2835-1794681000-1800140400@stellplatz-bremen.de
SUMMARY:Unheilig
DESCRIPTION:Der Graf ist zurück! Nach neun langen Jahren meldet er sich mit seiner Formation UNHEILIG endlich mit neuer Musik zurück und kündigt eine umfangreiche Arena-Tour für den Herbst/Winter 2026/2027 an.
URL:http://stellplatz-bremen.de/event/unheilig/
LOCATION:Messe Bremen und ÖVB Arena\, Findorffstr. 101\, Bremen\, Bremen\, 28215\, Deutschland
END:VEVENT
BEGIN:VEVENT
DTSTART;TZID=Europe/Berlin:20261120T180000
DTEND;TZID=Europe/Berlin:20270122T230000
DTSTAMP:20260419T142909
CREATED:20250107T173339Z
LAST-MODIFIED:20251219T164109Z
UID:2700-1795197600-1800658800@stellplatz-bremen.de
SUMMARY:Chris Tall
DESCRIPTION:ch seiner restlos ausverkauften „LAUGH STORIES“-Tour ist Chris Tall ab Februar 2026 mit einem brandneuen Live-Programm zurück. Unter dem Motto „KEEP LAUGHING“ geht der Comedy-Star auf große Tournee
URL:http://stellplatz-bremen.de/event/chris-tall/
LOCATION:Messe Bremen und ÖVB Arena\, Findorffstr. 101\, Bremen\, Bremen\, 28215\, Deutschland
END:VEVENT
BEGIN:VEVENT
DTSTART;TZID=Europe/Berlin:20261128T180000
DTEND;TZID=Europe/Berlin:20261129T230000
DTSTAMP:20260419T142909
CREATED:20251219T170100Z
LAST-MODIFIED:20251219T170100Z
UID:2862-1795888800-1795993200@stellplatz-bremen.de
SUMMARY:Kaya Yanar
DESCRIPTION:Kaya Yanar war schon immer LOST.\nBei der Geburt hätte er fast seinen Einsatz verpasst. Als Kleinkind hatte er lange Haare und alle hielten ihn für ein Mädchen. In der Schule ging er in den Evangelischen Unterricht\, obwohl sein Bruder zu den Katholiken ging. Seine Eltern sprachen nie Türkisch mit ihm\, obwohl sie nie gut Deutsch konnten. Sein Studium hätte ihm lediglich ermöglicht\, sein Bafög mit der Arbeitslosenrente zurückzuzahlen. Wenn er versucht in seinem Auto das Dachfenster aufzumachen\, ruft er den Pannendienst. Wenn er seine beliebte Figur\, den Inder Ranjid\, spielen möchte\, wirft man ihm Blackfacing vor. \nDie Welt ist komplizierter geworden\, welche Witze kann er noch machen? Wer bestimmt das? Sind wir nicht alle ein bisschen LOST? \nEgal\, man braucht Humor. Charlie Chaplin sagte mal: „Ein Tag ohne Lachen ist ein verlorener Tag!“ \nHaben Sie heute schon gelacht? Wenn nicht\, kommen Sie zu Kayas neuer Live-Comedy-Show „LOST!“ Und wenn Sie schon gelacht haben\, kommen Sie trotzdem.\nMan kann nie genug Vorrat an Lachern haben.
URL:http://stellplatz-bremen.de/event/kaya-yanar/
LOCATION:Metropol Theater
END:VEVENT
BEGIN:VEVENT
DTSTART;TZID=Europe/Berlin:20261206T190000
DTEND;TZID=Europe/Berlin:20270207T230000
DTSTAMP:20260419T142909
CREATED:20251219T164214Z
LAST-MODIFIED:20251219T164214Z
UID:2838-1796583600-1802041200@stellplatz-bremen.de
SUMMARY:Dr. Michael Tsokos
DESCRIPTION:PHÄNOMEN FORENSIK – die spektakuläre Live-Show und lange erwartete Fortsetzung des Mega-Erfolgs FASZINATION RECHTSMEDIZIN mit vielen neuen spannenden Fällen von Deutschlands Rechtsmediziner Nr. 1: Prof. Dr. Michael Tsokos. Der Rechtsmediziner ist als forensischer Experte im In- und Ausland tätig.
URL:http://stellplatz-bremen.de/event/dr-michael-tsokos/
LOCATION:Messe Bremen und ÖVB Arena\, Findorffstr. 101\, Bremen\, Bremen\, 28215\, Deutschland
END:VEVENT
BEGIN:VEVENT
DTSTART;TZID=Europe/Berlin:20261213T180000
DTEND;TZID=Europe/Berlin:20261213T230000
DTSTAMP:20260419T142909
CREATED:20250107T175436Z
LAST-MODIFIED:20251219T154341Z
UID:2723-1797184800-1797202800@stellplatz-bremen.de
SUMMARY:Night of the Proms 2026
DESCRIPTION:
URL:http://stellplatz-bremen.de/event/nigth-of-the-proms/
LOCATION:Messe Bremen und ÖVB Arena\, Findorffstr. 101\, Bremen\, Bremen\, 28215\, Deutschland
END:VEVENT
BEGIN:VEVENT
DTSTART;TZID=Europe/Berlin:20270111T180000
DTEND;TZID=Europe/Berlin:20270315T230000
DTSTAMP:20260419T142909
CREATED:20251219T170657Z
LAST-MODIFIED:20251219T170657Z
UID:2866-1799690400-1805151600@stellplatz-bremen.de
SUMMARY:Orden Ogan
DESCRIPTION:Die deutsche Dark-Power-Metal-Speerspitze ORDEN OGAN erhebt sich erneut: Am 08.01.2027 erscheint das neue Meisterwerk „Lords of the Grave“ über Reigning Phoenix Music. Bereits einen Tag vorher\, am 07.01.2027\, startet die gewaltige „Tour of the Grave“ – der Vorverkauf läuft auf Hochtouren.
URL:http://stellplatz-bremen.de/event/orden-ogan/
LOCATION:Aladin Music Hall
END:VEVENT
BEGIN:VEVENT
DTSTART;TZID=Europe/Berlin:20270226T180000
DTEND;TZID=Europe/Berlin:20270226T230000
DTSTAMP:20260419T142909
CREATED:20251219T164325Z
LAST-MODIFIED:20251219T164325Z
UID:2840-1803664800-1803682800@stellplatz-bremen.de
SUMMARY:Martin Rütter
DESCRIPTION:Er ist der Dogfather. Der Hundeskanzler. Der Mann für alle Felle. Martin Rütter. Und jetzt ist er endlich wieder da – um Abschied zu nehmen. Denn nach 30 Jahren im permanenten Einsatz für die Verständigung von Zwei- und Vierbeinern\, mehr als 6.500 gekitteten Mensch-Hund-Beziehungen\, tausenden TV-Stunden und fünf Live-Tourneen\, fällt der Vorhang nun zum allerletzten Mal. „SCHLUSS! AUS!“\, wenn der Name zum (Live-)Programm wird. Martin Rütter\, die Eminenz der internationalen Hundeszene dreht ein allerletztes Mal die richtig große Runde\, um danke zu sagen – und natürlich – um noch mal so richtig einen rauszuhauen. Das Beste kommt bekanntlich zum Schluss. Auch diesmal wieder fundiert informativ\, erbarmungslos ehrlich. Und vor allem richtig lustig.
URL:http://stellplatz-bremen.de/event/martin-ruetter/
LOCATION:Messe Bremen und ÖVB Arena\, Findorffstr. 101\, Bremen\, Bremen\, 28215\, Deutschland
END:VEVENT
BEGIN:VEVENT
DTSTART;TZID=Europe/Berlin:20270305T183000
DTEND;TZID=Europe/Berlin:20270305T230000
DTSTAMP:20260419T142909
CREATED:20251219T164427Z
LAST-MODIFIED:20251219T164427Z
UID:2842-1804271400-1804287600@stellplatz-bremen.de
SUMMARY:Manowar
DESCRIPTION:Manowar gehen auf große „Kings Of Metal Fighting The World Tour 2027“ und stoppen am 5. März 2027 in der Halle 7 Bremen.
URL:http://stellplatz-bremen.de/event/manowar/
LOCATION:Messe Bremen und ÖVB Arena\, Findorffstr. 101\, Bremen\, Bremen\, 28215\, Deutschland
END:VEVENT
END:VCALENDAR